BEGIN:VCALENDAR
PRODID:-//eluceo/ical//2.0/EN
VERSION:2.0
CALSCALE:GREGORIAN
BEGIN:VEVENT
UID:8c3fddf6ea91e086def54e402611cd27
DTSTAMP:20260424T081851Z
SUMMARY:Concert de Nouvel An - Musique Militaire
DESCRIPTION:
URL:https://bascharage-kordall.rotary2160.org/fr/agenda/show/90323
DTSTART;TZID=Europe/Zurich:20260110T193000
DTEND;TZID=Europe/Zurich:20260110T213000
LOCATION:Concertssall "Korus" zu Péiteng
CATEGORIES:Rotary
END:VEVENT
BEGIN:VTIMEZONE
TZID:Europe/Zurich
BEGIN:STANDARD
DTSTART:20260110T193000
TZNAME:CET
TZOFFSETTO:+0100
TZOFFSETFROM:+0100
END:STANDARD
END:VTIMEZONE
END:VCALENDAR
