BEGIN:VCALENDAR
PRODID:-//eluceo/ical//2.0/EN
VERSION:2.0
CALSCALE:GREGORIAN
BEGIN:VEVENT
UID:ea52316a660b881ffea058c51bf9b996
DTSTAMP:20260420T101430Z
SUMMARY:8th Rotary Indian Summer Tour 2025
DESCRIPTION:Conférencier(s): 
URL:https://bascharage-kordall.rotary2160.org/fr/agenda/show/76627
DTSTART;TZID=Europe/Zurich:20250921T073000
DTEND;TZID=Europe/Zurich:20250921T190000
LOCATION:Schifflange
CATEGORIES:Rotary
END:VEVENT
BEGIN:VTIMEZONE
TZID:Europe/Zurich
BEGIN:DAYLIGHT
DTSTART:20250921T073000
TZNAME:CEST
TZOFFSETTO:+0200
TZOFFSETFROM:+0200
END:DAYLIGHT
END:VTIMEZONE
END:VCALENDAR
